BEGIN:VCALENDAR
VERSION:2.0
PRODID:-//BEARS Australia Motorcycle Racing Club - ECPv6.15.20//NONSGML v1.0//EN
CALSCALE:GREGORIAN
METHOD:PUBLISH
X-WR-CALNAME:BEARS Australia Motorcycle Racing Club
X-ORIGINAL-URL:http://www.ozbearsracing.com
X-WR-CALDESC:Events for BEARS Australia Motorcycle Racing Club
REFRESH-INTERVAL;VALUE=DURATION:PT1H
X-Robots-Tag:noindex
X-PUBLISHED-TTL:PT1H
BEGIN:VTIMEZONE
TZID:Australia/Sydney
BEGIN:STANDARD
TZOFFSETFROM:+1100
TZOFFSETTO:+1000
TZNAME:AEST
DTSTART:20150404T160000
END:STANDARD
BEGIN:DAYLIGHT
TZOFFSETFROM:+1000
TZOFFSETTO:+1100
TZNAME:AEDT
DTSTART:20151003T160000
END:DAYLIGHT
BEGIN:STANDARD
TZOFFSETFROM:+1100
TZOFFSETTO:+1000
TZNAME:AEST
DTSTART:20160402T160000
END:STANDARD
BEGIN:DAYLIGHT
TZOFFSETFROM:+1000
TZOFFSETTO:+1100
TZNAME:AEDT
DTSTART:20161001T160000
END:DAYLIGHT
BEGIN:STANDARD
TZOFFSETFROM:+1100
TZOFFSETTO:+1000
TZNAME:AEST
DTSTART:20170401T160000
END:STANDARD
BEGIN:DAYLIGHT
TZOFFSETFROM:+1000
TZOFFSETTO:+1100
TZNAME:AEDT
DTSTART:20170930T160000
END:DAYLIGHT
BEGIN:STANDARD
TZOFFSETFROM:+1100
TZOFFSETTO:+1000
TZNAME:AEST
DTSTART:20180331T160000
END:STANDARD
BEGIN:DAYLIGHT
TZOFFSETFROM:+1000
TZOFFSETTO:+1100
TZNAME:AEDT
DTSTART:20181006T160000
END:DAYLIGHT
BEGIN:STANDARD
TZOFFSETFROM:+1100
TZOFFSETTO:+1000
TZNAME:AEST
DTSTART:20190406T160000
END:STANDARD
BEGIN:DAYLIGHT
TZOFFSETFROM:+1000
TZOFFSETTO:+1100
TZNAME:AEDT
DTSTART:20191005T160000
END:DAYLIGHT
END:VTIMEZONE
BEGIN:VTIMEZONE
TZID:Australia/Adelaide
BEGIN:STANDARD
TZOFFSETFROM:+1030
TZOFFSETTO:+0930
TZNAME:ACST
DTSTART:20170401T163000
END:STANDARD
BEGIN:DAYLIGHT
TZOFFSETFROM:+0930
TZOFFSETTO:+1030
TZNAME:ACDT
DTSTART:20170930T163000
END:DAYLIGHT
BEGIN:STANDARD
TZOFFSETFROM:+1030
TZOFFSETTO:+0930
TZNAME:ACST
DTSTART:20180331T163000
END:STANDARD
BEGIN:DAYLIGHT
TZOFFSETFROM:+0930
TZOFFSETTO:+1030
TZNAME:ACDT
DTSTART:20181006T163000
END:DAYLIGHT
BEGIN:STANDARD
TZOFFSETFROM:+1030
TZOFFSETTO:+0930
TZNAME:ACST
DTSTART:20190406T163000
END:STANDARD
BEGIN:DAYLIGHT
TZOFFSETFROM:+0930
TZOFFSETTO:+1030
TZNAME:ACDT
DTSTART:20191005T163000
END:DAYLIGHT
END:VTIMEZONE
BEGIN:VEVENT
DTSTART;VALUE=DATE:20181103
DTEND;VALUE=DATE:20181105
DTSTAMP:20260422T071452
CREATED:20180911T234822Z
LAST-MODIFIED:20180911T234947Z
UID:1639-1541203200-1541375999@www.ozbearsracing.com
SUMMARY:Race at the  Bend
DESCRIPTION:SUPP REGS & ONLINE ENTRY HERE
URL:http://www.ozbearsracing.com/event/race-at-the-bend/
LOCATION:THE BEND\, 543 Dukes Highway\, Tailem Bend\, SA\, 5260\, Australia
ORGANIZER;CN="PHOENIX MC CLUB SA":MAILTO:RacingMCC@yahoo.com.au
END:VEVENT
BEGIN:VEVENT
DTSTART;TZID=Australia/Sydney:20180922T080000
DTEND;TZID=Australia/Sydney:20180923T170000
DTSTAMP:20260422T071452
CREATED:20180213T002515Z
LAST-MODIFIED:20180213T003847Z
UID:1602-1537603200-1537722000@www.ozbearsracing.com
SUMMARY:Nationals 2018-Round 5-Broadford VIC
DESCRIPTION:
URL:http://www.ozbearsracing.com/event/sept-22-23-broadford-preston-mcc-national/
LOCATION:BROADFORD STATE MOTORCYCLE COMPLEX\, 260 Strath Creek Road\, Broadford\, VIC\, 3658\, Australia
ORGANIZER;CN="PRESTONS MOTORCYCLE CLUB":MAILTO:secretaryprestonmcc@gmail.com
END:VEVENT
BEGIN:VEVENT
DTSTART;TZID=Australia/Sydney:20180825T080000
DTEND;TZID=Australia/Sydney:20180826T170000
DTSTAMP:20260422T071452
CREATED:20180213T002124Z
LAST-MODIFIED:20180711T050340Z
UID:1599-1535184000-1535302800@www.ozbearsracing.com
SUMMARY:Nationals 2018-Round 4-Phillip Island VIC
DESCRIPTION:SUPP REGS
URL:http://www.ozbearsracing.com/event/aug-25-26-phillip-island-preston-mcc-national/
LOCATION:PHILLIP ISLAND\, Back Beach Rd\, Phillip Island\, VIC\, 3922\, Australia
ORGANIZER;CN="PRESTONS MOTORCYCLE CLUB":MAILTO:secretaryprestonmcc@gmail.com
END:VEVENT
BEGIN:VEVENT
DTSTART;TZID=Australia/Sydney:20180728T080000
DTEND;TZID=Australia/Sydney:20180729T170000
DTSTAMP:20260422T071452
CREATED:20180213T001816Z
LAST-MODIFIED:20180327T030117Z
UID:1594-1532764800-1532883600@www.ozbearsracing.com
SUMMARY:Clubbies 2018-Round 4-SMSP NSW
DESCRIPTION:
URL:http://www.ozbearsracing.com/event/july-28-29-eastern-creek-st-george-mc-endurance-clubbie/
LOCATION:SYDNEY MOTORSPORT PARK\, Ferrers Rd\, Eastern Creek\, NSW\, Australia
CATEGORIES:Clubbies Race
ORGANIZER;CN="ST GEORGE MOTORCYCLE CLUB":MAILTO:secretary@stgeorgemcc.com
END:VEVENT
BEGIN:VEVENT
DTSTART;TZID=Australia/Sydney:20180519T080000
DTEND;TZID=Australia/Sydney:20180520T170000
DTSTAMP:20260422T071452
CREATED:20180213T001409Z
LAST-MODIFIED:20180416T020652Z
UID:1592-1526716800-1526835600@www.ozbearsracing.com
SUMMARY:Nationals 2018-Round 3-Morgan Park QLD
DESCRIPTION:ONLINE ENTRY HERE
URL:http://www.ozbearsracing.com/event/may-19-20-morgan-pk-m-c-sportsmen-national/
LOCATION:MORGAN PARK\, OLD STANTHORPE RD\, WARWICK\, QLD\, 4370\, Australia
ORGANIZER;CN="MOTORCYCLE SPORTSMEN":MAILTO:manager@motorcyclesportsmen.com.au
END:VEVENT
BEGIN:VEVENT
DTSTART;TZID=Australia/Sydney:20180505T080000
DTEND;TZID=Australia/Sydney:20180506T170000
DTSTAMP:20260422T071452
CREATED:20180213T001240Z
LAST-MODIFIED:20180213T003415Z
UID:1590-1525507200-1525626000@www.ozbearsracing.com
SUMMARY:Clubbies-2018-Round 3-Broadford VIC
DESCRIPTION:
URL:http://www.ozbearsracing.com/event/may-5-6-broadford-preston-mcc-clubbie/
LOCATION:BROADFORD STATE MOTORCYCLE COMPLEX\, 260 Strath Creek Road\, Broadford\, VIC\, 3658\, Australia
CATEGORIES:Clubbies Race,Race Meeting
ORGANIZER;CN="PRESTONS MOTORCYCLE CLUB":MAILTO:secretaryprestonmcc@gmail.com
END:VEVENT
BEGIN:VEVENT
DTSTART;TZID=Australia/Sydney:20180414T080000
DTEND;TZID=Australia/Sydney:20180415T170000
DTSTAMP:20260422T071452
CREATED:20171229T015644Z
LAST-MODIFIED:20180305T030130Z
UID:1555-1523692800-1523811600@www.ozbearsracing.com
SUMMARY:Clubbies 2018 - Round 2  - Wakefield Park NSW
DESCRIPTION:SUPP REGS CLICK HERE
URL:http://www.ozbearsracing.com/event/clubbies-2018-round-2-wakefield-park-nsw/
LOCATION:Wakefield Park\, 4770 Braidwood Rd  \, Tirrannaville\, NSW\, 2580\, Australia
ORGANIZER;CN="ST GEORGE MOTORCYCLE CLUB":MAILTO:secretary@stgeorgemcc.com
END:VEVENT
BEGIN:VEVENT
DTSTART;TZID=Australia/Adelaide:20180330T080000
DTEND;TZID=Australia/Adelaide:20180401T170000
DTSTAMP:20260422T071452
CREATED:20171229T014838Z
LAST-MODIFIED:20180318T002318Z
UID:1547-1522396800-1522602000@www.ozbearsracing.com
SUMMARY:Nationals 2018 - Round 2 - MacPark Mount Gambier SA
DESCRIPTION:Garage list\, riders list & final instructions.
URL:http://www.ozbearsracing.com/event/round-2-nationals/
LOCATION:Mac Park Mt. Gambier\, Australia
CATEGORIES:National Race,Race Meeting
ORGANIZER;CN="MOUNT GAMBIER MOTORCYCLE CLUB":MAILTO:sec@macpark.org
END:VEVENT
BEGIN:VEVENT
DTSTART;TZID=Australia/Sydney:20180203T080000
DTEND;TZID=Australia/Sydney:20180204T163000
DTSTAMP:20260422T071452
CREATED:20171229T012411Z
LAST-MODIFIED:20171229T015300Z
UID:1545-1517644800-1517761800@www.ozbearsracing.com
SUMMARY:Nationals / Clubbies 2018 - Round 1  - SMSP Sydney NSW
DESCRIPTION:
URL:http://www.ozbearsracing.com/event/round-1-nationals-clubbies/
LOCATION:SYDNEY MOTORSPORT PARK\, Ferrers Rd\, Eastern Creek\, NSW\, 2766\, Australia
CATEGORIES:Clubbies Race,National Race,Race Meeting
END:VEVENT
BEGIN:VEVENT
DTSTART;TZID=Australia/Sydney:20180113T130000
DTEND;TZID=Australia/Sydney:20180113T170000
DTSTAMP:20260422T071452
CREATED:20171229T012042Z
LAST-MODIFIED:20180109T083346Z
UID:1542-1515848400-1515862800@www.ozbearsracing.com
SUMMARY:BEARS AGM 2018
DESCRIPTION:You are hereby invited to the BEARS Club AGM / Presentations / New Season Celebration starting from 1pm on Saturday the 13th January 2018. These extravaganzas have proved very popular with over 50 guests attending the last few years. Due to a price increase at the previous venue (from $1100 to $1650)\, we decided to search for another site. We believe that the Station at Pyrmont (not railway station) 58a Bowman St Pyrmont will prove to be an excellent venue. And at a grand total of $0\, meaning this year’s AGM has no cover charge. \n“The Station” has a large outdoor grassed area with views over Pyrmont Bay. We will also have access to the area inside the venue where we can conduct the AGM and hold the Club Presentations. There is a copy of the menu below. As usual\, we want this to be family day. \n• There is metered street parking\, but a taxi means you can stay longer!\n• Public transport via 389 bus from QVB or circular quay\, or light rail from central\, taxi’s\, uber etc\n• 1pm – 8 pm\, Members\, partners\, kids and sponsors.\n• BYO drinks\, ice and plastic containers provided.\n• Nibblies available from 1pm\n• AGM @ 2 pm – Nominate on the day\, members only.\n• Trophy Presentations approx. 4.30 pm.\n• Meals as per menu below\n• Bottle shop located corner Bowman and Harris St\, pub located Harris and John St. See map below \nThis year just send an email to secretary@ozbearsracing.com or phone (0416576233) confirming your intention to attend by close of mail Wednesday 10th of January and let me how many you are bringing with you. Names required then as we want to know final numbers. A list of attendees will be available through the forum at http://ozbearsracing.com/forum/viewtopic.php?p=16799#16799 \nTHE MENU\nTHE AUSSIE BANQUET \nRoast Beef with Gravy\nBaked Rosemary Potatoes\nChicken Schnitzel\nHomemade Mini Beef Pies\nSteamed Seasonal Vegetables\nMixed Leaf Garden Salad\nColeslaw Salad\nBread Rolls & Butter\nCheese Cake\nSeasonal Fruit Platters \n \n 
URL:http://www.ozbearsracing.com/event/bears-agm/
LOCATION:The Station Pyrmont\, 58 Bowman St\, Pyrmont\, NSW\, 2009\, Australia
CATEGORIES:AGM,Presentation Day
END:VEVENT
BEGIN:VEVENT
DTSTART;TZID=Australia/Sydney:20171111T080000
DTEND;TZID=Australia/Sydney:20171112T170000
DTSTAMP:20260422T071452
CREATED:20161216T031446Z
LAST-MODIFIED:20171025T013319Z
UID:1189-1510387200-1510506000@www.ozbearsracing.com
SUMMARY:National Championship Round 6 Broadford
DESCRIPTION:ENTRY CLICK HERE
URL:http://www.ozbearsracing.com/event/national-championship-round-5-broadford/
LOCATION:BROADFORD STATE MOTORCYCLE COMPLEX\, 260 Strath Creek Road\, Broadford\, VIC\, 3658\, Australia
CATEGORIES:National Race,Race Meeting
ATTACH;FMTTYPE=image/png:http://www.ozbearsracing.com/wp-content/uploads/2015/12/broadford.png
ORGANIZER;CN="PRESTONS MOTORCYCLE CLUB":MAILTO:secretaryprestonmcc@gmail.com
END:VEVENT
BEGIN:VEVENT
DTSTART;VALUE=DATE:20171007
DTEND;VALUE=DATE:20171009
DTSTAMP:20260422T071452
CREATED:20161216T031308Z
LAST-MODIFIED:20171004T005123Z
UID:1186-1507334400-1507507199@www.ozbearsracing.com
SUMMARY:National Championship Round 5 SMSP
DESCRIPTION:SUPP REGS\nLIST OF COMPETITORS\nGARAGE ALLOCATION\nFINAL INSTRUCTIONS\nPROGRAM OF EVENTS
URL:http://www.ozbearsracing.com/event/national-championship-round-4-smsp/
LOCATION:SYDNEY MOTORSPORT PARK\, Ferrers Rd\, Eastern Creek\, NSW\, 2766\, Australia
CATEGORIES:National Race,Race Meeting
ATTACH;FMTTYPE=image/png:http://www.ozbearsracing.com/wp-content/uploads/2015/11/images.png
ORGANIZER;CN="ST GEORGE MOTORCYCLE CLUB":MAILTO:secretary@stgeorgemcc.com
END:VEVENT
BEGIN:VEVENT
DTSTART;VALUE=DATE:20170826
DTEND;VALUE=DATE:20170828
DTSTAMP:20260422T071452
CREATED:20170118T093626Z
LAST-MODIFIED:20170807T045750Z
UID:1217-1503705600-1503878399@www.ozbearsracing.com
SUMMARY:National Championship Round 4 Phillip Island
DESCRIPTION:ENTER HERE\n  \nFRIDAY PRACTICE
URL:http://www.ozbearsracing.com/event/national-championship-round-4-phillip-island/
LOCATION:PHILLIP ISLAND\, Back Beach Rd\, Phillip Island\, VIC\, 3922\, Australia
CATEGORIES:National Race
ATTACH;FMTTYPE=image/png:http://www.ozbearsracing.com/wp-content/uploads/2015/12/pi_logo.png
ORGANIZER;CN="PRESTONS MOTORCYCLE CLUB":MAILTO:secretaryprestonmcc@gmail.com
END:VEVENT
BEGIN:VEVENT
DTSTART;TZID=Australia/Sydney:20170805T080000
DTEND;TZID=Australia/Sydney:20170806T170000
DTSTAMP:20260422T071452
CREATED:20161216T031120Z
LAST-MODIFIED:20161216T031120Z
UID:1182-1501920000-1502038800@www.ozbearsracing.com
SUMMARY:Club Championship Round 5 Wakefield Park
DESCRIPTION:
URL:http://www.ozbearsracing.com/event/club-championship-round-5-wakefield-park/
LOCATION:Wakefield Park\, 4770 Braidwood Rd  \, Tirrannaville\, NSW\, 2580\, Australia
CATEGORIES:Clubbies Race,Race Meeting
ATTACH;FMTTYPE=image/png:http://www.ozbearsracing.com/wp-content/uploads/2016/12/Screen-Shot-2016-12-16-at-2.10.33-PM.png
ORGANIZER;CN="ST GEORGE MOTORCYCLE CLUB":MAILTO:secretary@stgeorgemcc.com
END:VEVENT
BEGIN:VEVENT
DTSTART;TZID=Australia/Sydney:20170802T080000
DTEND;TZID=Australia/Sydney:20170806T170000
DTSTAMP:20260422T071452
CREATED:20161216T030822Z
LAST-MODIFIED:20170718T103718Z
UID:1179-1501660800-1502038800@www.ozbearsracing.com
SUMMARY:National Championship Round 3 Hidden Valley
DESCRIPTION:CLICK FOR TTC SUPP REGS & ONLINE ENTRY\n  \nLATEST SUPP REGS
URL:http://www.ozbearsracing.com/event/national-championship-round-3-hidden-valley/
LOCATION:Hidden Valley\, Hidden Valley Rd\, Hidden Valley\, NT\, 0822\, Australia
CATEGORIES:National Race,Race Meeting
ATTACH;FMTTYPE=image/png:http://www.ozbearsracing.com/wp-content/uploads/2016/12/Screen-Shot-2016-12-16-at-2.07.36-PM.png
ORGANIZER;CN="TERRA":MAILTO:alan@dbhcontracting.com.au   
END:VEVENT
BEGIN:VEVENT
DTSTART;TZID=Australia/Sydney:20170513T080000
DTEND;TZID=Australia/Sydney:20170514T170000
DTSTAMP:20260422T071452
CREATED:20161216T025435Z
LAST-MODIFIED:20161216T025435Z
UID:1169-1494662400-1494781200@www.ozbearsracing.com
SUMMARY:National Championship Round 2 Morgan Park
DESCRIPTION:
URL:http://www.ozbearsracing.com/event/national-championship-round-2-morgan-park/
LOCATION:MORGAN PARK\, OLD STANTHORPE RD\, WARWICK\, QLD\, 4370\, Australia
CATEGORIES:National Race,Race Meeting
ATTACH;FMTTYPE=image/png:http://www.ozbearsracing.com/wp-content/uploads/2015/12/morgan-park.png
ORGANIZER;CN="MOTORCYCLE SPORTSMEN":MAILTO:manager@motorcyclesportsmen.com.au
END:VEVENT
BEGIN:VEVENT
DTSTART;TZID=Australia/Sydney:20170506T080000
DTEND;TZID=Australia/Sydney:20170507T170000
DTSTAMP:20260422T071452
CREATED:20161216T025954Z
LAST-MODIFIED:20170405T104854Z
UID:1172-1494057600-1494176400@www.ozbearsracing.com
SUMMARY:Club Championship Round 4 Winton
DESCRIPTION:
URL:http://www.ozbearsracing.com/event/club-championship-round-3-winton/
LOCATION:Winton Raceway\, 41 Fox St\, Winton\, Victoria\, 3673\, Australia
CATEGORIES:Clubbies Race,Race Meeting
ATTACH;FMTTYPE=image/png:http://www.ozbearsracing.com/wp-content/uploads/2016/12/Screen-Shot-2016-12-16-at-1.59.06-PM.png
ORGANIZER;CN="PRESTONS MOTORCYCLE CLUB":MAILTO:secretaryprestonmcc@gmail.com
END:VEVENT
BEGIN:VEVENT
DTSTART;TZID=Australia/Sydney:20170429T080000
DTEND;TZID=Australia/Sydney:20170430T170000
DTSTAMP:20260422T071452
CREATED:20161216T030349Z
LAST-MODIFIED:20170405T104931Z
UID:1177-1493452800-1493571600@www.ozbearsracing.com
SUMMARY:Club Championship Round 3 Wakefield Park
DESCRIPTION:SUPP REGS HERE
URL:http://www.ozbearsracing.com/event/club-championship-round-4-wakefield-park/
LOCATION:Wakefield Park\, 4770 Braidwood Rd  \, Tirrannaville\, NSW\, 2580\, Australia
CATEGORIES:Clubbies Race,Race Meeting
ATTACH;FMTTYPE=image/png:http://www.ozbearsracing.com/wp-content/uploads/2016/12/Screen-Shot-2016-12-16-at-2.10.33-PM.png
ORGANIZER;CN="ST GEORGE MOTORCYCLE CLUB":MAILTO:secretary@stgeorgemcc.com
END:VEVENT
BEGIN:VEVENT
DTSTART;TZID=Australia/Sydney:20170415T080000
DTEND;TZID=Australia/Sydney:20170416T170000
DTSTAMP:20260422T071452
CREATED:20161216T025254Z
LAST-MODIFIED:20170407T064123Z
UID:1166-1492243200-1492362000@www.ozbearsracing.com
SUMMARY:National Championship Round 1 Mac Park
DESCRIPTION:CLICK HERE FOR SUPP REGS\nFINAL INSTRUCTIONS
URL:http://www.ozbearsracing.com/event/national-championship-round-1-mac-park/
LOCATION:Mac Park Mt. Gambier\, Australia
CATEGORIES:National Race,Race Meeting
ATTACH;FMTTYPE=image/jpeg:http://www.ozbearsracing.com/wp-content/uploads/2015/12/mac-park.jpg
ORGANIZER;CN="MOUNT GAMBIER MOTORCYCLE CLUB":MAILTO:sec@macpark.org
END:VEVENT
BEGIN:VEVENT
DTSTART;TZID=Australia/Sydney:20170401T080000
DTEND;TZID=Australia/Sydney:20170402T170000
DTSTAMP:20260422T071452
CREATED:20161216T025104Z
LAST-MODIFIED:20170329T022003Z
UID:1164-1491033600-1491152400@www.ozbearsracing.com
SUMMARY:Club Championship Round 2 Broadford
DESCRIPTION:PROGRAM\nGARAGES
URL:http://www.ozbearsracing.com/event/club-championship-round-2-broadford/
LOCATION:BROADFORD STATE MOTORCYCLE COMPLEX\, 260 Strath Creek Road\, Broadford\, VIC\, 3658\, Australia
CATEGORIES:Clubbies Race,Race Meeting
ATTACH;FMTTYPE=image/png:http://www.ozbearsracing.com/wp-content/uploads/2015/12/broadford.png
ORGANIZER;CN="PRESTONS MOTORCYCLE CLUB":MAILTO:secretaryprestonmcc@gmail.com
END:VEVENT
BEGIN:VEVENT
DTSTART;TZID=Australia/Sydney:20170211T080000
DTEND;TZID=Australia/Sydney:20170212T170000
DTSTAMP:20260422T071452
CREATED:20161216T024420Z
LAST-MODIFIED:20170205T234455Z
UID:1160-1486800000-1486918800@www.ozbearsracing.com
SUMMARY:Club Championship Round 1 SMSP
DESCRIPTION:SUPP REGS\nGARAGE ALLOCATION\nFINAL INSTRUCTIONS\nLIST OF COMPETITORS
URL:http://www.ozbearsracing.com/event/r1-club-championship-smsp/
LOCATION:SYDNEY MOTORSPORT PARK\, Ferrers Rd\, Eastern Creek\, NSW\, 2766\, Australia
CATEGORIES:Clubbies Race,Race Meeting
ATTACH;FMTTYPE=image/png:http://www.ozbearsracing.com/wp-content/uploads/2015/11/images.png
ORGANIZER;CN="ST GEORGE MOTORCYCLE CLUB":MAILTO:secretary@stgeorgemcc.com
END:VEVENT
BEGIN:VEVENT
DTSTART;TZID=Australia/Sydney:20161105T070000
DTEND;TZID=Australia/Sydney:20161106T170000
DTSTAMP:20260422T071452
CREATED:20151201T054012Z
LAST-MODIFIED:20161019T003227Z
UID:875-1478329200-1478451600@www.ozbearsracing.com
SUMMARY:NATIONALS ROUND 5 EASTERN CREEK
DESCRIPTION:SUPP REGS & ENTRY\nFINAL INSTRUCTIONS\nLIST OF COMPETITORS\nGARAGE ALLOCATIONS
URL:http://www.ozbearsracing.com/event/nationals-round-5-smsp/
LOCATION:SYDNEY MOTORSPORT PARK\, Ferrers Rd\, Eastern Creek\, NSW\, 2766\, Australia
CATEGORIES:National Race
ATTACH;FMTTYPE=image/png:http://www.ozbearsracing.com/wp-content/uploads/2015/11/images.png
ORGANIZER;CN="ST GEORGE MOTORCYCLE CLUB":MAILTO:secretary@stgeorgemcc.com
END:VEVENT
BEGIN:VEVENT
DTSTART;TZID=Australia/Sydney:20161001T070000
DTEND;TZID=Australia/Sydney:20161002T170000
DTSTAMP:20260422T071452
CREATED:20151201T052106Z
LAST-MODIFIED:20160730T052933Z
UID:865-1475305200-1475427600@www.ozbearsracing.com
SUMMARY:MASTERS OF MAC PARK LEG 2
DESCRIPTION:SUPP REGS AND ENTRY FORM CLICK HERE
URL:http://www.ozbearsracing.com/event/masters-of-mac-park/
LOCATION:Mac Park Mt. Gambier\, Australia
CATEGORIES:Race Meeting
ATTACH;FMTTYPE=image/jpeg:http://www.ozbearsracing.com/wp-content/uploads/2015/12/mac-park.jpg
ORGANIZER;CN="MOUNT GAMBIER MOTORCYCLE CLUB":MAILTO:sec@macpark.org
END:VEVENT
BEGIN:VEVENT
DTSTART;TZID=Australia/Sydney:20160924T080000
DTEND;TZID=Australia/Sydney:20160925T170000
DTSTAMP:20260422T071452
CREATED:20151201T053848Z
LAST-MODIFIED:20160922T004253Z
UID:874-1474704000-1474822800@www.ozbearsracing.com
SUMMARY:NATIONALS ROUND 4 BROADFORD
DESCRIPTION:PRESTONS ONLINE ENTRY\nLINK FRIDAY PRACTICE DAY INFO\nGARAGE LIST
URL:http://www.ozbearsracing.com/event/national-round-4-broadford/
LOCATION:BROADFORD STATE MOTORCYCLE COMPLEX\, 260 Strath Creek Road\, Broadford\, VIC\, 3658\, Australia
CATEGORIES:National Race
ATTACH;FMTTYPE=image/png:http://www.ozbearsracing.com/wp-content/uploads/2015/12/broadford.png
ORGANIZER;CN="PRESTONS MOTORCYCLE CLUB":MAILTO:secretaryprestonmcc@gmail.com
END:VEVENT
BEGIN:VEVENT
DTSTART;TZID=Australia/Sydney:20160903T070000
DTEND;TZID=Australia/Sydney:20160904T170000
DTSTAMP:20260422T071452
CREATED:20160815T061253Z
LAST-MODIFIED:20160815T061453Z
UID:1114-1472886000-1473008400@www.ozbearsracing.com
SUMMARY:2016 MOTORCYCLING NSW STATE TITLES
DESCRIPTION:Hosted by St George Motorcycle Club\nSUPP REGS
URL:http://www.ozbearsracing.com/event/2016-nsw-state-titles/
LOCATION:Wakefield Park\, 4770 Braidwood Rd  \, Tirrannaville\, NSW\, 2580\, Australia
ORGANIZER;CN="ST GEORGE MOTORCYCLE CLUB":MAILTO:secretary@stgeorgemcc.com
END:VEVENT
BEGIN:VEVENT
DTSTART;TZID=Australia/Sydney:20160827T080000
DTEND;TZID=Australia/Sydney:20160828T170000
DTSTAMP:20260422T071452
CREATED:20151201T053612Z
LAST-MODIFIED:20160818T001707Z
UID:872-1472284800-1472403600@www.ozbearsracing.com
SUMMARY:NATIONALS ROUND 3 PHILLIP ISLAND
DESCRIPTION:CLICK HERE FOR SUPP REGS\nONLINE ENTRY HERE
URL:http://www.ozbearsracing.com/event/national-round-3-phillip-island/
LOCATION:PHILLIP ISLAND\, Back Beach Rd\, Phillip Island\, VIC\, 3922\, Australia
CATEGORIES:National Race
ATTACH;FMTTYPE=image/png:http://www.ozbearsracing.com/wp-content/uploads/2015/12/pi_logo.png
ORGANIZER;CN="PRESTONS MOTORCYCLE CLUB":MAILTO:secretaryprestonmcc@gmail.com
END:VEVENT
BEGIN:VEVENT
DTSTART;VALUE=DATE:20160806
DTEND;VALUE=DATE:20160807
DTSTAMP:20260422T071452
CREATED:20150104T135925Z
LAST-MODIFIED:20160705T002631Z
UID:244-1470441600-1470527999@www.ozbearsracing.com
SUMMARY:CLUBBIES ROUND 4 - WAKEFIELD PARK
DESCRIPTION:August 6th Wakefield Park\nSt George MCC\nENTRY FORM HERE\nPIRELLI TYRE INFO FOR WAKEFIELD\n 
URL:http://www.ozbearsracing.com/event/clubbies-race-2/
LOCATION:Wakefield Park\, 4770 Braidwood Rd  \, Tirrannaville\, NSW\, 2580\, Australia
CATEGORIES:Clubbies Race
ATTACH;FMTTYPE=image/jpeg:http://www.ozbearsracing.com/wp-content/uploads/2015/12/wakefield.jpg
ORGANIZER;CN="OZBEARS RACING":MAILTO:secretary@ozbearsracing.com
END:VEVENT
BEGIN:VEVENT
DTSTART;TZID=Australia/Sydney:20160611T080000
DTEND;TZID=Australia/Sydney:20160612T170000
DTSTAMP:20260422T071452
CREATED:20151201T053448Z
LAST-MODIFIED:20160603T014648Z
UID:871-1465632000-1465750800@www.ozbearsracing.com
SUMMARY:CLUBBIES ROUND 3 PHILLIP ISLAND
DESCRIPTION:FRIDAY PRACTICE\nSUPP REGS AND ENTRY FORM\nCOMPETITORS LIST\nPROGRAM OF EVENTS\nGARAGE ALLOCATION\nFINAL INSTRUCTIONS
URL:http://www.ozbearsracing.com/event/clubbies-round-3-junejuly/
LOCATION:PHILLIP ISLAND\, Back Beach Rd\, Phillip Island\, VIC\, 3922\, Australia
CATEGORIES:Clubbies Race
ATTACH;FMTTYPE=image/png:http://www.ozbearsracing.com/wp-content/uploads/2015/12/pi_logo.png
ORGANIZER;CN="ST GEORGE MOTORCYCLE CLUB":MAILTO:secretary@stgeorgemcc.com
END:VEVENT
BEGIN:VEVENT
DTSTART;TZID=Australia/Sydney:20160514T070000
DTEND;TZID=Australia/Sydney:20160515T170000
DTSTAMP:20260422T071452
CREATED:20151201T053236Z
LAST-MODIFIED:20160511T013429Z
UID:868-1463209200-1463331600@www.ozbearsracing.com
SUMMARY:NATIONALS ROUND 2 MORGAN PARK
DESCRIPTION:SUPP REGS AND ENTRY CLICK HERE\nLATEST ENTRY LIST CLICK HERE\nGARAGE LIST\nFINAL INSTRUCTIONS
URL:http://www.ozbearsracing.com/event/national-round-2-morgan-park/
LOCATION:MORGAN PARK\, OLD STANTHORPE RD\, WARWICK\, QLD\, 4370\, Australia
CATEGORIES:National Race
ATTACH;FMTTYPE=image/png:http://www.ozbearsracing.com/wp-content/uploads/2015/12/morgan-park.png
ORGANIZER;CN="MOTORCYCLE SPORTSMEN":MAILTO:manager@motorcyclesportsmen.com.au
END:VEVENT
BEGIN:VEVENT
DTSTART;TZID=Australia/Sydney:20160409T070000
DTEND;TZID=Australia/Sydney:20160410T170000
DTSTAMP:20260422T071452
CREATED:20151201T052258Z
LAST-MODIFIED:20160320T221021Z
UID:867-1460185200-1460307600@www.ozbearsracing.com
SUMMARY:CLUBBIES ROUND 2 BROADFORD
DESCRIPTION:CLICK HERE FOR SUPP REGS\nCLICK HERE FOR ONLINE ENTRY
URL:http://www.ozbearsracing.com/event/clubbies-r2-broadford/
LOCATION:BROADFORD STATE MOTORCYCLE COMPLEX\, 260 Strath Creek Road\, Broadford\, VIC\, 3658\, Australia
CATEGORIES:Clubbies Race
ATTACH;FMTTYPE=image/png:http://www.ozbearsracing.com/wp-content/uploads/2015/12/broadford.png
ORGANIZER;CN="PRESTONS MOTORCYCLE CLUB":MAILTO:secretaryprestonmcc@gmail.com
END:VEVENT
END:VCALENDAR