BEGIN:VCALENDAR
VERSION:2.0
PRODID:-//BEARS Australia Motorcycle Racing Club - ECPv6.15.20//NONSGML v1.0//EN
CALSCALE:GREGORIAN
METHOD:PUBLISH
X-ORIGINAL-URL:http://www.ozbearsracing.com
X-WR-CALDESC:Events for BEARS Australia Motorcycle Racing Club
REFRESH-INTERVAL;VALUE=DURATION:PT1H
X-Robots-Tag:noindex
X-PUBLISHED-TTL:PT1H
BEGIN:VTIMEZONE
TZID:Australia/Sydney
BEGIN:STANDARD
TZOFFSETFROM:+1100
TZOFFSETTO:+1000
TZNAME:AEST
DTSTART:20190406T160000
END:STANDARD
BEGIN:DAYLIGHT
TZOFFSETFROM:+1000
TZOFFSETTO:+1100
TZNAME:AEDT
DTSTART:20191005T160000
END:DAYLIGHT
BEGIN:STANDARD
TZOFFSETFROM:+1100
TZOFFSETTO:+1000
TZNAME:AEST
DTSTART:20200404T160000
END:STANDARD
BEGIN:DAYLIGHT
TZOFFSETFROM:+1000
TZOFFSETTO:+1100
TZNAME:AEDT
DTSTART:20201003T160000
END:DAYLIGHT
BEGIN:STANDARD
TZOFFSETFROM:+1100
TZOFFSETTO:+1000
TZNAME:AEST
DTSTART:20210403T160000
END:STANDARD
BEGIN:DAYLIGHT
TZOFFSETFROM:+1000
TZOFFSETTO:+1100
TZNAME:AEDT
DTSTART:20211002T160000
END:DAYLIGHT
BEGIN:STANDARD
TZOFFSETFROM:+1100
TZOFFSETTO:+1000
TZNAME:AEST
DTSTART:20220402T160000
END:STANDARD
BEGIN:DAYLIGHT
TZOFFSETFROM:+1000
TZOFFSETTO:+1100
TZNAME:AEDT
DTSTART:20221001T160000
END:DAYLIGHT
END:VTIMEZONE
BEGIN:VEVENT
DTSTART;TZID=Australia/Sydney:20211127T080000
DTEND;TZID=Australia/Sydney:20211128T170000
DTSTAMP:20260422T090911
CREATED:20210202T221444Z
LAST-MODIFIED:20210202T221508Z
UID:2336-1638000000-1638118800@www.ozbearsracing.com
SUMMARY:Rnd 4 Vic Clubbies The Bend
DESCRIPTION:
URL:http://www.ozbearsracing.com/event/rnd-4-vic-clubbies/
LOCATION:THE BEND\, 543 Dukes Highway\, Tailem Bend\, SA\, 5260\, Australia
CATEGORIES:Race Meeting,VIC Clubbies Race
ORGANIZER;CN="PRESTONS MOTORCYCLE CLUB":MAILTO:secretaryprestonmcc@gmail.com
END:VEVENT
BEGIN:VEVENT
DTSTART;TZID=Australia/Sydney:20210904T080000
DTEND;TZID=Australia/Sydney:20210905T170000
DTSTAMP:20260422T090911
CREATED:20210202T210929Z
LAST-MODIFIED:20210202T220858Z
UID:2322-1630742400-1630861200@www.ozbearsracing.com
SUMMARY:Nationals R4 - Rnd 2 Vic Clubbies PI
DESCRIPTION:
URL:http://www.ozbearsracing.com/event/rnd-2-vic-clubbies-pi/
LOCATION:PHILLIP ISLAND\, Back Beach Rd\, Phillip Island\, VIC\, 3922\, Australia
CATEGORIES:National Race,Race Meeting,VIC Clubbies Race
ATTACH;FMTTYPE=image/png:http://www.ozbearsracing.com/wp-content/uploads/2019/01/philip-island-track-layout-1280x866.png
ORGANIZER;CN="PRESTONS MOTORCYCLE CLUB":MAILTO:secretaryprestonmcc@gmail.com
END:VEVENT
BEGIN:VEVENT
DTSTART;TZID=Australia/Sydney:20210410T080000
DTEND;TZID=Australia/Sydney:20210411T170000
DTSTAMP:20260422T090911
CREATED:20210202T210804Z
LAST-MODIFIED:20210202T210804Z
UID:2320-1618041600-1618160400@www.ozbearsracing.com
SUMMARY:Rnd 1 Vic Clubbies Winton
DESCRIPTION:
URL:http://www.ozbearsracing.com/event/rnd-1-vic-clubbies-winton/
LOCATION:Winton Raceway\, 41 Fox St\, Winton\, Victoria\, 3673\, Australia
CATEGORIES:VIC Clubbies Race
ORGANIZER;CN="PRESTONS MOTORCYCLE CLUB":MAILTO:secretaryprestonmcc@gmail.com
END:VEVENT
BEGIN:VEVENT
DTSTART;VALUE=DATE:20201107
DTEND;VALUE=DATE:20201109
DTSTAMP:20260422T090911
CREATED:20200623T045938Z
LAST-MODIFIED:20200623T045938Z
UID:2099-1604707200-1604879999@www.ozbearsracing.com
SUMMARY:Round 4 Nationals – Broadford (Vic Club Round 2)
DESCRIPTION:The committee has selected this meeting as Round 4 of the 2020 BEARS MCRC National Challenge. \nThe committee has selected the meeting as Round 2 of the 2020 BEARS VIC Club Championship.
URL:http://www.ozbearsracing.com/event/round-4-nationals-broadford-vic-club-round-2/
LOCATION:BROADFORD STATE MOTORCYCLE COMPLEX\, 260 Strath Creek Road\, Broadford\, VIC\, 3658\, Australia
CATEGORIES:National Race,VIC Clubbies Race
ORGANIZER;CN="PRESTONS MOTORCYCLE CLUB":MAILTO:secretaryprestonmcc@gmail.com
END:VEVENT
BEGIN:VEVENT
DTSTART;VALUE=DATE:20200829
DTEND;VALUE=DATE:20200831
DTSTAMP:20260422T090911
CREATED:20200623T045725Z
LAST-MODIFIED:20200623T045725Z
UID:2097-1598659200-1598831999@www.ozbearsracing.com
SUMMARY:Round 3 Nationals - Phillip Island (Vic Club Round 1)
DESCRIPTION:The committee has selected this meeting as Round 3 of the 2020 BEARS MCRC National Challenge. \nThe committee has selected the meeting as Round 1 of the 2020 BEARS VIC Club Championship.
URL:http://www.ozbearsracing.com/event/round-3-nationals-phillip-island-vic-club-round-1/
LOCATION:PHILLIP ISLAND\, Back Beach Rd\, Phillip Island\, VIC\, 3922\, Australia
CATEGORIES:National Race,VIC Clubbies Race
ORGANIZER;CN="PRESTONS MOTORCYCLE CLUB":MAILTO:secretaryprestonmcc@gmail.com
END:VEVENT
BEGIN:VEVENT
DTSTART;VALUE=DATE:20200502
DTEND;VALUE=DATE:20200504
DTSTAMP:20260422T090911
CREATED:20191206T013328Z
LAST-MODIFIED:20191206T013548Z
UID:1969-1588377600-1588550399@www.ozbearsracing.com
SUMMARY:VIC Clubbies Round 1
DESCRIPTION:
URL:http://www.ozbearsracing.com/event/vic-clubbies-round-1/
LOCATION:BROADFORD STATE MOTORCYCLE COMPLEX\, 260 Strath Creek Road\, Broadford\, VIC\, 3658\, Australia
CATEGORIES:VIC Clubbies Race
ORGANIZER;CN="PRESTONS MOTORCYCLE CLUB":MAILTO:secretaryprestonmcc@gmail.com
END:VEVENT
END:VCALENDAR