BEGIN:VCALENDAR
VERSION:2.0
PRODID:-//BEARS Australia Motorcycle Racing Club - ECPv6.15.20//NONSGML v1.0//EN
CALSCALE:GREGORIAN
METHOD:PUBLISH
X-ORIGINAL-URL:http://www.ozbearsracing.com
X-WR-CALDESC:Events for BEARS Australia Motorcycle Racing Club
REFRESH-INTERVAL;VALUE=DURATION:PT1H
X-Robots-Tag:noindex
X-PUBLISHED-TTL:PT1H
BEGIN:VTIMEZONE
TZID:Australia/Sydney
BEGIN:STANDARD
TZOFFSETFROM:+1100
TZOFFSETTO:+1000
TZNAME:AEST
DTSTART:20150404T160000
END:STANDARD
BEGIN:DAYLIGHT
TZOFFSETFROM:+1000
TZOFFSETTO:+1100
TZNAME:AEDT
DTSTART:20151003T160000
END:DAYLIGHT
BEGIN:STANDARD
TZOFFSETFROM:+1100
TZOFFSETTO:+1000
TZNAME:AEST
DTSTART:20160402T160000
END:STANDARD
BEGIN:DAYLIGHT
TZOFFSETFROM:+1000
TZOFFSETTO:+1100
TZNAME:AEDT
DTSTART:20161001T160000
END:DAYLIGHT
BEGIN:STANDARD
TZOFFSETFROM:+1100
TZOFFSETTO:+1000
TZNAME:AEST
DTSTART:20170401T160000
END:STANDARD
BEGIN:DAYLIGHT
TZOFFSETFROM:+1000
TZOFFSETTO:+1100
TZNAME:AEDT
DTSTART:20170930T160000
END:DAYLIGHT
BEGIN:STANDARD
TZOFFSETFROM:+1100
TZOFFSETTO:+1000
TZNAME:AEST
DTSTART:20180331T160000
END:STANDARD
BEGIN:DAYLIGHT
TZOFFSETFROM:+1000
TZOFFSETTO:+1100
TZNAME:AEDT
DTSTART:20181006T160000
END:DAYLIGHT
BEGIN:STANDARD
TZOFFSETFROM:+1100
TZOFFSETTO:+1000
TZNAME:AEST
DTSTART:20190406T160000
END:STANDARD
BEGIN:DAYLIGHT
TZOFFSETFROM:+1000
TZOFFSETTO:+1100
TZNAME:AEDT
DTSTART:20191005T160000
END:DAYLIGHT
BEGIN:STANDARD
TZOFFSETFROM:+1100
TZOFFSETTO:+1000
TZNAME:AEST
DTSTART:20200404T160000
END:STANDARD
BEGIN:DAYLIGHT
TZOFFSETFROM:+1000
TZOFFSETTO:+1100
TZNAME:AEDT
DTSTART:20201003T160000
END:DAYLIGHT
BEGIN:STANDARD
TZOFFSETFROM:+1100
TZOFFSETTO:+1000
TZNAME:AEST
DTSTART:20210403T160000
END:STANDARD
BEGIN:DAYLIGHT
TZOFFSETFROM:+1000
TZOFFSETTO:+1100
TZNAME:AEDT
DTSTART:20211002T160000
END:DAYLIGHT
BEGIN:STANDARD
TZOFFSETFROM:+1100
TZOFFSETTO:+1000
TZNAME:AEST
DTSTART:20220402T160000
END:STANDARD
BEGIN:DAYLIGHT
TZOFFSETFROM:+1000
TZOFFSETTO:+1100
TZNAME:AEDT
DTSTART:20221001T160000
END:DAYLIGHT
BEGIN:STANDARD
TZOFFSETFROM:+1100
TZOFFSETTO:+1000
TZNAME:AEST
DTSTART:20230401T160000
END:STANDARD
BEGIN:DAYLIGHT
TZOFFSETFROM:+1000
TZOFFSETTO:+1100
TZNAME:AEDT
DTSTART:20230930T160000
END:DAYLIGHT
END:VTIMEZONE
BEGIN:VTIMEZONE
TZID:Australia/Adelaide
BEGIN:STANDARD
TZOFFSETFROM:+1030
TZOFFSETTO:+0930
TZNAME:ACST
DTSTART:20170401T163000
END:STANDARD
BEGIN:DAYLIGHT
TZOFFSETFROM:+0930
TZOFFSETTO:+1030
TZNAME:ACDT
DTSTART:20170930T163000
END:DAYLIGHT
BEGIN:STANDARD
TZOFFSETFROM:+1030
TZOFFSETTO:+0930
TZNAME:ACST
DTSTART:20180331T163000
END:STANDARD
BEGIN:DAYLIGHT
TZOFFSETFROM:+0930
TZOFFSETTO:+1030
TZNAME:ACDT
DTSTART:20181006T163000
END:DAYLIGHT
BEGIN:STANDARD
TZOFFSETFROM:+1030
TZOFFSETTO:+0930
TZNAME:ACST
DTSTART:20190406T163000
END:STANDARD
BEGIN:DAYLIGHT
TZOFFSETFROM:+0930
TZOFFSETTO:+1030
TZNAME:ACDT
DTSTART:20191005T163000
END:DAYLIGHT
END:VTIMEZONE
BEGIN:VEVENT
DTSTART;TZID=Australia/Sydney:20220521T070000
DTEND;TZID=Australia/Sydney:20220524T170000
DTSTAMP:20260423T231839
CREATED:20220202T032952Z
LAST-MODIFIED:20220210T234352Z
UID:2499-1653116400-1653411600@www.ozbearsracing.com
SUMMARY:Round 2 Bears Nationals Morgan Park QLD
DESCRIPTION:
URL:http://www.ozbearsracing.com/event/round-3-bears-nationals/
LOCATION:MORGAN PARK\, OLD STANTHORPE RD\, WARWICK\, QLD\, 4370\, Australia
CATEGORIES:National Race,Race Meeting
ORGANIZER;CN="MOTORCYCLE SPORTSMEN":MAILTO:manager@motorcyclesportsmen.com.au
END:VEVENT
BEGIN:VEVENT
DTSTART;TZID=Australia/Sydney:20220415T080000
DTEND;TZID=Australia/Sydney:20220417T170000
DTSTAMP:20260423T231839
CREATED:20220202T032505Z
LAST-MODIFIED:20220224T210040Z
UID:2496-1650009600-1650214800@www.ozbearsracing.com
SUMMARY:Round 1 Bears Nationals MacPark SA
DESCRIPTION:CLICK HERE TO ENTER
URL:http://www.ozbearsracing.com/event/round-2-bears-national/
LOCATION:Mac Park Mt. Gambier\, Australia
CATEGORIES:National Race,Race Meeting
ORGANIZER;CN="MOUNT GAMBIER MOTORCYCLE CLUB":MAILTO:sec@macpark.org
END:VEVENT
BEGIN:VEVENT
DTSTART;TZID=Australia/Sydney:20211127T080000
DTEND;TZID=Australia/Sydney:20211128T170000
DTSTAMP:20260423T231839
CREATED:20210202T221444Z
LAST-MODIFIED:20210202T221508Z
UID:2336-1638000000-1638118800@www.ozbearsracing.com
SUMMARY:Rnd 4 Vic Clubbies The Bend
DESCRIPTION:
URL:http://www.ozbearsracing.com/event/rnd-4-vic-clubbies/
LOCATION:THE BEND\, 543 Dukes Highway\, Tailem Bend\, SA\, 5260\, Australia
CATEGORIES:Race Meeting,VIC Clubbies Race
ORGANIZER;CN="PRESTONS MOTORCYCLE CLUB":MAILTO:secretaryprestonmcc@gmail.com
END:VEVENT
BEGIN:VEVENT
DTSTART;TZID=Australia/Sydney:20210904T080000
DTEND;TZID=Australia/Sydney:20210905T170000
DTSTAMP:20260423T231839
CREATED:20210202T210929Z
LAST-MODIFIED:20210202T220858Z
UID:2322-1630742400-1630861200@www.ozbearsracing.com
SUMMARY:Nationals R4 - Rnd 2 Vic Clubbies PI
DESCRIPTION:
URL:http://www.ozbearsracing.com/event/rnd-2-vic-clubbies-pi/
LOCATION:PHILLIP ISLAND\, Back Beach Rd\, Phillip Island\, VIC\, 3922\, Australia
CATEGORIES:National Race,Race Meeting,VIC Clubbies Race
ATTACH;FMTTYPE=image/png:http://www.ozbearsracing.com/wp-content/uploads/2019/01/philip-island-track-layout-1280x866.png
ORGANIZER;CN="PRESTONS MOTORCYCLE CLUB":MAILTO:secretaryprestonmcc@gmail.com
END:VEVENT
BEGIN:VEVENT
DTSTART;TZID=Australia/Sydney:20191109T080000
DTEND;TZID=Australia/Sydney:20191110T170000
DTSTAMP:20260423T231839
CREATED:20190111T042331Z
LAST-MODIFIED:20190111T043542Z
UID:1714-1573286400-1573405200@www.ozbearsracing.com
SUMMARY:Nationals Broadford
DESCRIPTION:
URL:http://www.ozbearsracing.com/event/nationals-broadford/
LOCATION:BROADFORD STATE MOTORCYCLE COMPLEX\, 260 Strath Creek Road\, Broadford\, VIC\, 3658\, Australia
CATEGORIES:National Race,Race Meeting
ATTACH;FMTTYPE=image/png:http://www.ozbearsracing.com/wp-content/uploads/2019/01/Broadford_Track_Australia_track_map.svg_.png
ORGANIZER;CN="PRESTONS MOTORCYCLE CLUB":MAILTO:secretaryprestonmcc@gmail.com
END:VEVENT
BEGIN:VEVENT
DTSTART;TZID=Australia/Sydney:20190921T080000
DTEND;TZID=Australia/Sydney:20190922T170000
DTSTAMP:20260423T231839
CREATED:20190111T042205Z
LAST-MODIFIED:20190111T043647Z
UID:1712-1569052800-1569171600@www.ozbearsracing.com
SUMMARY:Clubbies/Nationals SMSP
DESCRIPTION:
URL:http://www.ozbearsracing.com/event/clubbies-nationals-smsp/
LOCATION:SYDNEY MOTORSPORT PARK\, Ferrers Rd\, Eastern Creek\, NSW\, Australia
CATEGORIES:Clubbies Race,National Race,Race Meeting
ATTACH;FMTTYPE=image/jpeg:http://www.ozbearsracing.com/wp-content/uploads/2019/01/EC-GP.jpg
ORGANIZER;CN="ST GEORGE MOTORCYCLE CLUB":MAILTO:secretary@stgeorgemcc.com
END:VEVENT
BEGIN:VEVENT
DTSTART;TZID=Australia/Sydney:20190824T080000
DTEND;TZID=Australia/Sydney:20190825T170000
DTSTAMP:20260423T231839
CREATED:20190111T042027Z
LAST-MODIFIED:20190111T043814Z
UID:1710-1566633600-1566752400@www.ozbearsracing.com
SUMMARY:Nationals Phillip Island
DESCRIPTION:
URL:http://www.ozbearsracing.com/event/nationals-phillip-island/
LOCATION:PHILLIP ISLAND\, Back Beach Rd\, Phillip Island\, VIC\, 3922\, Australia
CATEGORIES:National Race,Race Meeting
ORGANIZER;CN="PRESTONS MOTORCYCLE CLUB":MAILTO:secretaryprestonmcc@gmail.com
END:VEVENT
BEGIN:VEVENT
DTSTART;TZID=Australia/Sydney:20190729T080000
DTEND;TZID=Australia/Sydney:20190804T170000
DTSTAMP:20260423T231839
CREATED:20190111T041902Z
LAST-MODIFIED:20190111T043902Z
UID:1708-1564387200-1564938000@www.ozbearsracing.com
SUMMARY:Nationals Hidden Valley
DESCRIPTION:
URL:http://www.ozbearsracing.com/event/nationals-hidden-valley/
LOCATION:Hidden Valley\, Hidden Valley Rd\, Hidden Valley\, NT\, 0822\, Australia
CATEGORIES:National Race,Race Meeting
ATTACH;FMTTYPE=image/jpeg:http://www.ozbearsracing.com/wp-content/uploads/2019/01/hidden_valley_600.jpg
ORGANIZER;CN="TERRA":MAILTO:alan@dbhcontracting.com.au   
END:VEVENT
BEGIN:VEVENT
DTSTART;TZID=Australia/Sydney:20190518T080000
DTEND;TZID=Australia/Sydney:20190519T170000
DTSTAMP:20260423T231839
CREATED:20190111T041739Z
LAST-MODIFIED:20190111T044038Z
UID:1706-1558166400-1558285200@www.ozbearsracing.com
SUMMARY:Nationals Morgan Park
DESCRIPTION:
URL:http://www.ozbearsracing.com/event/nationals-morgan-park/
LOCATION:MORGAN PARK\, OLD STANTHORPE RD\, WARWICK\, QLD\, 4370\, Australia
CATEGORIES:National Race,Race Meeting
ATTACH;FMTTYPE=image/png:http://www.ozbearsracing.com/wp-content/uploads/2019/01/Morgan-Park.png
ORGANIZER;CN="MOTORCYCLE SPORTSMEN":MAILTO:manager@motorcyclesportsmen.com.au
END:VEVENT
BEGIN:VEVENT
DTSTART;TZID=Australia/Sydney:20190420T080000
DTEND;TZID=Australia/Sydney:20190421T170000
DTSTAMP:20260423T231839
CREATED:20190111T041451Z
LAST-MODIFIED:20190306T004912Z
UID:1702-1555747200-1555866000@www.ozbearsracing.com
SUMMARY:Nationals Mac Park
DESCRIPTION:CLICK HERE FOR ENTRY & SUPP REGS
URL:http://www.ozbearsracing.com/event/nationals-mac-park/
LOCATION:Mac Park Mt. Gambier\, Australia
CATEGORIES:National Race,Race Meeting
ATTACH;FMTTYPE=image/png:http://www.ozbearsracing.com/wp-content/uploads/2019/01/Mac-park-Trackv2.png
ORGANIZER;CN="MOUNT GAMBIER MOTORCYCLE CLUB":MAILTO:sec@macpark.org
END:VEVENT
BEGIN:VEVENT
DTSTART;TZID=Australia/Sydney:20190413T080000
DTEND;TZID=Australia/Sydney:20190414T170000
DTSTAMP:20260423T231839
CREATED:20190111T041321Z
LAST-MODIFIED:20190402T222710Z
UID:1700-1555142400-1555261200@www.ozbearsracing.com
SUMMARY:Clubbies Wakefield Park
DESCRIPTION:ENTER HERE
URL:http://www.ozbearsracing.com/event/clubbies-wakefield-park/
LOCATION:Wakefield Park\, 4770 Braidwood Rd  \, Tirrannaville\, NSW\, 2580\, Australia
CATEGORIES:Clubbies Race,Race Meeting
ATTACH;FMTTYPE=image/png:http://www.ozbearsracing.com/wp-content/uploads/2019/01/wakefield.png
ORGANIZER;CN="ST GEORGE MOTORCYCLE CLUB":MAILTO:secretary@stgeorgemcc.com
END:VEVENT
BEGIN:VEVENT
DTSTART;TZID=Australia/Sydney:20190302T080000
DTEND;TZID=Australia/Sydney:20190303T170000
DTSTAMP:20260423T231839
CREATED:20190111T041131Z
LAST-MODIFIED:20190111T044556Z
UID:1698-1551513600-1551632400@www.ozbearsracing.com
SUMMARY:Clubbies Winton
DESCRIPTION:
URL:http://www.ozbearsracing.com/event/clubbies-winton/
LOCATION:Winton Raceway\, 41 Fox St\, Winton\, Victoria\, 3673\, Australia
CATEGORIES:Clubbies Race,Race Meeting
ATTACH;FMTTYPE=image/jpeg:http://www.ozbearsracing.com/wp-content/uploads/2019/01/Winton-Map.jpg
ORGANIZER;CN="PRESTONS MOTORCYCLE CLUB":MAILTO:secretaryprestonmcc@gmail.com
END:VEVENT
BEGIN:VEVENT
DTSTART;TZID=Australia/Sydney:20190202T080000
DTEND;TZID=Australia/Sydney:20190203T170000
DTSTAMP:20260423T231839
CREATED:20190111T041020Z
LAST-MODIFIED:20190111T044700Z
UID:1696-1549094400-1549213200@www.ozbearsracing.com
SUMMARY:Clubbies SMSP
DESCRIPTION:
URL:http://www.ozbearsracing.com/event/clubbies-smsp/
LOCATION:SYDNEY MOTORSPORT PARK\, Ferrers Rd\, Eastern Creek\, NSW\, 2766\, Australia
CATEGORIES:Clubbies Race,Race Meeting
ATTACH;FMTTYPE=image/jpeg:http://www.ozbearsracing.com/wp-content/uploads/2019/01/EC-GP.jpg
ORGANIZER;CN="ST GEORGE MOTORCYCLE CLUB":MAILTO:secretary@stgeorgemcc.com
END:VEVENT
BEGIN:VEVENT
DTSTART;TZID=Australia/Sydney:20180505T080000
DTEND;TZID=Australia/Sydney:20180506T170000
DTSTAMP:20260423T231839
CREATED:20180213T001240Z
LAST-MODIFIED:20180213T003415Z
UID:1590-1525507200-1525626000@www.ozbearsracing.com
SUMMARY:Clubbies-2018-Round 3-Broadford VIC
DESCRIPTION:
URL:http://www.ozbearsracing.com/event/may-5-6-broadford-preston-mcc-clubbie/
LOCATION:BROADFORD STATE MOTORCYCLE COMPLEX\, 260 Strath Creek Road\, Broadford\, VIC\, 3658\, Australia
CATEGORIES:Clubbies Race,Race Meeting
ORGANIZER;CN="PRESTONS MOTORCYCLE CLUB":MAILTO:secretaryprestonmcc@gmail.com
END:VEVENT
BEGIN:VEVENT
DTSTART;TZID=Australia/Adelaide:20180330T080000
DTEND;TZID=Australia/Adelaide:20180401T170000
DTSTAMP:20260423T231839
CREATED:20171229T014838Z
LAST-MODIFIED:20180318T002318Z
UID:1547-1522396800-1522602000@www.ozbearsracing.com
SUMMARY:Nationals 2018 - Round 2 - MacPark Mount Gambier SA
DESCRIPTION:Garage list\, riders list & final instructions.
URL:http://www.ozbearsracing.com/event/round-2-nationals/
LOCATION:Mac Park Mt. Gambier\, Australia
CATEGORIES:National Race,Race Meeting
ORGANIZER;CN="MOUNT GAMBIER MOTORCYCLE CLUB":MAILTO:sec@macpark.org
END:VEVENT
BEGIN:VEVENT
DTSTART;TZID=Australia/Sydney:20180203T080000
DTEND;TZID=Australia/Sydney:20180204T163000
DTSTAMP:20260423T231839
CREATED:20171229T012411Z
LAST-MODIFIED:20171229T015300Z
UID:1545-1517644800-1517761800@www.ozbearsracing.com
SUMMARY:Nationals / Clubbies 2018 - Round 1  - SMSP Sydney NSW
DESCRIPTION:
URL:http://www.ozbearsracing.com/event/round-1-nationals-clubbies/
LOCATION:SYDNEY MOTORSPORT PARK\, Ferrers Rd\, Eastern Creek\, NSW\, 2766\, Australia
CATEGORIES:Clubbies Race,National Race,Race Meeting
END:VEVENT
BEGIN:VEVENT
DTSTART;TZID=Australia/Sydney:20171111T080000
DTEND;TZID=Australia/Sydney:20171112T170000
DTSTAMP:20260423T231839
CREATED:20161216T031446Z
LAST-MODIFIED:20171025T013319Z
UID:1189-1510387200-1510506000@www.ozbearsracing.com
SUMMARY:National Championship Round 6 Broadford
DESCRIPTION:ENTRY CLICK HERE
URL:http://www.ozbearsracing.com/event/national-championship-round-5-broadford/
LOCATION:BROADFORD STATE MOTORCYCLE COMPLEX\, 260 Strath Creek Road\, Broadford\, VIC\, 3658\, Australia
CATEGORIES:National Race,Race Meeting
ATTACH;FMTTYPE=image/png:http://www.ozbearsracing.com/wp-content/uploads/2015/12/broadford.png
ORGANIZER;CN="PRESTONS MOTORCYCLE CLUB":MAILTO:secretaryprestonmcc@gmail.com
END:VEVENT
BEGIN:VEVENT
DTSTART;VALUE=DATE:20171007
DTEND;VALUE=DATE:20171009
DTSTAMP:20260423T231839
CREATED:20161216T031308Z
LAST-MODIFIED:20171004T005123Z
UID:1186-1507334400-1507507199@www.ozbearsracing.com
SUMMARY:National Championship Round 5 SMSP
DESCRIPTION:SUPP REGS\nLIST OF COMPETITORS\nGARAGE ALLOCATION\nFINAL INSTRUCTIONS\nPROGRAM OF EVENTS
URL:http://www.ozbearsracing.com/event/national-championship-round-4-smsp/
LOCATION:SYDNEY MOTORSPORT PARK\, Ferrers Rd\, Eastern Creek\, NSW\, 2766\, Australia
CATEGORIES:National Race,Race Meeting
ATTACH;FMTTYPE=image/png:http://www.ozbearsracing.com/wp-content/uploads/2015/11/images.png
ORGANIZER;CN="ST GEORGE MOTORCYCLE CLUB":MAILTO:secretary@stgeorgemcc.com
END:VEVENT
BEGIN:VEVENT
DTSTART;TZID=Australia/Sydney:20170805T080000
DTEND;TZID=Australia/Sydney:20170806T170000
DTSTAMP:20260423T231839
CREATED:20161216T031120Z
LAST-MODIFIED:20161216T031120Z
UID:1182-1501920000-1502038800@www.ozbearsracing.com
SUMMARY:Club Championship Round 5 Wakefield Park
DESCRIPTION:
URL:http://www.ozbearsracing.com/event/club-championship-round-5-wakefield-park/
LOCATION:Wakefield Park\, 4770 Braidwood Rd  \, Tirrannaville\, NSW\, 2580\, Australia
CATEGORIES:Clubbies Race,Race Meeting
ATTACH;FMTTYPE=image/png:http://www.ozbearsracing.com/wp-content/uploads/2016/12/Screen-Shot-2016-12-16-at-2.10.33-PM.png
ORGANIZER;CN="ST GEORGE MOTORCYCLE CLUB":MAILTO:secretary@stgeorgemcc.com
END:VEVENT
BEGIN:VEVENT
DTSTART;TZID=Australia/Sydney:20170802T080000
DTEND;TZID=Australia/Sydney:20170806T170000
DTSTAMP:20260423T231839
CREATED:20161216T030822Z
LAST-MODIFIED:20170718T103718Z
UID:1179-1501660800-1502038800@www.ozbearsracing.com
SUMMARY:National Championship Round 3 Hidden Valley
DESCRIPTION:CLICK FOR TTC SUPP REGS & ONLINE ENTRY\n  \nLATEST SUPP REGS
URL:http://www.ozbearsracing.com/event/national-championship-round-3-hidden-valley/
LOCATION:Hidden Valley\, Hidden Valley Rd\, Hidden Valley\, NT\, 0822\, Australia
CATEGORIES:National Race,Race Meeting
ATTACH;FMTTYPE=image/png:http://www.ozbearsracing.com/wp-content/uploads/2016/12/Screen-Shot-2016-12-16-at-2.07.36-PM.png
ORGANIZER;CN="TERRA":MAILTO:alan@dbhcontracting.com.au   
END:VEVENT
BEGIN:VEVENT
DTSTART;TZID=Australia/Sydney:20170513T080000
DTEND;TZID=Australia/Sydney:20170514T170000
DTSTAMP:20260423T231839
CREATED:20161216T025435Z
LAST-MODIFIED:20161216T025435Z
UID:1169-1494662400-1494781200@www.ozbearsracing.com
SUMMARY:National Championship Round 2 Morgan Park
DESCRIPTION:
URL:http://www.ozbearsracing.com/event/national-championship-round-2-morgan-park/
LOCATION:MORGAN PARK\, OLD STANTHORPE RD\, WARWICK\, QLD\, 4370\, Australia
CATEGORIES:National Race,Race Meeting
ATTACH;FMTTYPE=image/png:http://www.ozbearsracing.com/wp-content/uploads/2015/12/morgan-park.png
ORGANIZER;CN="MOTORCYCLE SPORTSMEN":MAILTO:manager@motorcyclesportsmen.com.au
END:VEVENT
BEGIN:VEVENT
DTSTART;TZID=Australia/Sydney:20170506T080000
DTEND;TZID=Australia/Sydney:20170507T170000
DTSTAMP:20260423T231839
CREATED:20161216T025954Z
LAST-MODIFIED:20170405T104854Z
UID:1172-1494057600-1494176400@www.ozbearsracing.com
SUMMARY:Club Championship Round 4 Winton
DESCRIPTION:
URL:http://www.ozbearsracing.com/event/club-championship-round-3-winton/
LOCATION:Winton Raceway\, 41 Fox St\, Winton\, Victoria\, 3673\, Australia
CATEGORIES:Clubbies Race,Race Meeting
ATTACH;FMTTYPE=image/png:http://www.ozbearsracing.com/wp-content/uploads/2016/12/Screen-Shot-2016-12-16-at-1.59.06-PM.png
ORGANIZER;CN="PRESTONS MOTORCYCLE CLUB":MAILTO:secretaryprestonmcc@gmail.com
END:VEVENT
BEGIN:VEVENT
DTSTART;TZID=Australia/Sydney:20170429T080000
DTEND;TZID=Australia/Sydney:20170430T170000
DTSTAMP:20260423T231839
CREATED:20161216T030349Z
LAST-MODIFIED:20170405T104931Z
UID:1177-1493452800-1493571600@www.ozbearsracing.com
SUMMARY:Club Championship Round 3 Wakefield Park
DESCRIPTION:SUPP REGS HERE
URL:http://www.ozbearsracing.com/event/club-championship-round-4-wakefield-park/
LOCATION:Wakefield Park\, 4770 Braidwood Rd  \, Tirrannaville\, NSW\, 2580\, Australia
CATEGORIES:Clubbies Race,Race Meeting
ATTACH;FMTTYPE=image/png:http://www.ozbearsracing.com/wp-content/uploads/2016/12/Screen-Shot-2016-12-16-at-2.10.33-PM.png
ORGANIZER;CN="ST GEORGE MOTORCYCLE CLUB":MAILTO:secretary@stgeorgemcc.com
END:VEVENT
BEGIN:VEVENT
DTSTART;TZID=Australia/Sydney:20170415T080000
DTEND;TZID=Australia/Sydney:20170416T170000
DTSTAMP:20260423T231839
CREATED:20161216T025254Z
LAST-MODIFIED:20170407T064123Z
UID:1166-1492243200-1492362000@www.ozbearsracing.com
SUMMARY:National Championship Round 1 Mac Park
DESCRIPTION:CLICK HERE FOR SUPP REGS\nFINAL INSTRUCTIONS
URL:http://www.ozbearsracing.com/event/national-championship-round-1-mac-park/
LOCATION:Mac Park Mt. Gambier\, Australia
CATEGORIES:National Race,Race Meeting
ATTACH;FMTTYPE=image/jpeg:http://www.ozbearsracing.com/wp-content/uploads/2015/12/mac-park.jpg
ORGANIZER;CN="MOUNT GAMBIER MOTORCYCLE CLUB":MAILTO:sec@macpark.org
END:VEVENT
BEGIN:VEVENT
DTSTART;TZID=Australia/Sydney:20170401T080000
DTEND;TZID=Australia/Sydney:20170402T170000
DTSTAMP:20260423T231839
CREATED:20161216T025104Z
LAST-MODIFIED:20170329T022003Z
UID:1164-1491033600-1491152400@www.ozbearsracing.com
SUMMARY:Club Championship Round 2 Broadford
DESCRIPTION:PROGRAM\nGARAGES
URL:http://www.ozbearsracing.com/event/club-championship-round-2-broadford/
LOCATION:BROADFORD STATE MOTORCYCLE COMPLEX\, 260 Strath Creek Road\, Broadford\, VIC\, 3658\, Australia
CATEGORIES:Clubbies Race,Race Meeting
ATTACH;FMTTYPE=image/png:http://www.ozbearsracing.com/wp-content/uploads/2015/12/broadford.png
ORGANIZER;CN="PRESTONS MOTORCYCLE CLUB":MAILTO:secretaryprestonmcc@gmail.com
END:VEVENT
BEGIN:VEVENT
DTSTART;TZID=Australia/Sydney:20170211T080000
DTEND;TZID=Australia/Sydney:20170212T170000
DTSTAMP:20260423T231839
CREATED:20161216T024420Z
LAST-MODIFIED:20170205T234455Z
UID:1160-1486800000-1486918800@www.ozbearsracing.com
SUMMARY:Club Championship Round 1 SMSP
DESCRIPTION:SUPP REGS\nGARAGE ALLOCATION\nFINAL INSTRUCTIONS\nLIST OF COMPETITORS
URL:http://www.ozbearsracing.com/event/r1-club-championship-smsp/
LOCATION:SYDNEY MOTORSPORT PARK\, Ferrers Rd\, Eastern Creek\, NSW\, 2766\, Australia
CATEGORIES:Clubbies Race,Race Meeting
ATTACH;FMTTYPE=image/png:http://www.ozbearsracing.com/wp-content/uploads/2015/11/images.png
ORGANIZER;CN="ST GEORGE MOTORCYCLE CLUB":MAILTO:secretary@stgeorgemcc.com
END:VEVENT
BEGIN:VEVENT
DTSTART;TZID=Australia/Sydney:20161001T070000
DTEND;TZID=Australia/Sydney:20161002T170000
DTSTAMP:20260423T231839
CREATED:20151201T052106Z
LAST-MODIFIED:20160730T052933Z
UID:865-1475305200-1475427600@www.ozbearsracing.com
SUMMARY:MASTERS OF MAC PARK LEG 2
DESCRIPTION:SUPP REGS AND ENTRY FORM CLICK HERE
URL:http://www.ozbearsracing.com/event/masters-of-mac-park/
LOCATION:Mac Park Mt. Gambier\, Australia
CATEGORIES:Race Meeting
ATTACH;FMTTYPE=image/jpeg:http://www.ozbearsracing.com/wp-content/uploads/2015/12/mac-park.jpg
ORGANIZER;CN="MOUNT GAMBIER MOTORCYCLE CLUB":MAILTO:sec@macpark.org
END:VEVENT
END:VCALENDAR