BEGIN:VCALENDAR
VERSION:2.0
PRODID:-//BEARS Australia Motorcycle Racing Club - ECPv6.15.20//NONSGML v1.0//EN
CALSCALE:GREGORIAN
METHOD:PUBLISH
X-WR-CALNAME:BEARS Australia Motorcycle Racing Club
X-ORIGINAL-URL:http://www.ozbearsracing.com
X-WR-CALDESC:Events for BEARS Australia Motorcycle Racing Club
REFRESH-INTERVAL;VALUE=DURATION:PT1H
X-Robots-Tag:noindex
X-PUBLISHED-TTL:PT1H
BEGIN:VTIMEZONE
TZID:Australia/Sydney
BEGIN:STANDARD
TZOFFSETFROM:+1100
TZOFFSETTO:+1000
TZNAME:AEST
DTSTART:20190406T160000
END:STANDARD
BEGIN:DAYLIGHT
TZOFFSETFROM:+1000
TZOFFSETTO:+1100
TZNAME:AEDT
DTSTART:20191005T160000
END:DAYLIGHT
BEGIN:STANDARD
TZOFFSETFROM:+1100
TZOFFSETTO:+1000
TZNAME:AEST
DTSTART:20200404T160000
END:STANDARD
BEGIN:DAYLIGHT
TZOFFSETFROM:+1000
TZOFFSETTO:+1100
TZNAME:AEDT
DTSTART:20201003T160000
END:DAYLIGHT
BEGIN:STANDARD
TZOFFSETFROM:+1100
TZOFFSETTO:+1000
TZNAME:AEST
DTSTART:20210403T160000
END:STANDARD
BEGIN:DAYLIGHT
TZOFFSETFROM:+1000
TZOFFSETTO:+1100
TZNAME:AEDT
DTSTART:20211002T160000
END:DAYLIGHT
BEGIN:STANDARD
TZOFFSETFROM:+1100
TZOFFSETTO:+1000
TZNAME:AEST
DTSTART:20220402T160000
END:STANDARD
BEGIN:DAYLIGHT
TZOFFSETFROM:+1000
TZOFFSETTO:+1100
TZNAME:AEDT
DTSTART:20221001T160000
END:DAYLIGHT
END:VTIMEZONE
BEGIN:VEVENT
DTSTART;TZID=Australia/Sydney:20211009T080000
DTEND;TZID=Australia/Sydney:20211010T170000
DTSTAMP:20260422T071855
CREATED:20210202T210554Z
LAST-MODIFIED:20210202T220810Z
UID:2318-1633766400-1633885200@www.ozbearsracing.com
SUMMARY:Nationals R5 - Rnd 3 NSW Clubbies SMSP
DESCRIPTION:
URL:http://www.ozbearsracing.com/event/rnd-3-nsw-clubbies-smsp/
LOCATION:SYDNEY MOTORSPORT PARK\, Ferrers Rd\, Eastern Creek\, NSW\, 2766\, Australia
CATEGORIES:National Race,NSW Clubbies
ATTACH;FMTTYPE=image/jpeg:http://www.ozbearsracing.com/wp-content/uploads/2019/12/smsp.jpeg
ORGANIZER;CN="ST GEORGE MOTORCYCLE CLUB":MAILTO:secretary@stgeorgemcc.com
END:VEVENT
BEGIN:VEVENT
DTSTART;TZID=Australia/Sydney:20210522T080000
DTEND;TZID=Australia/Sydney:20210523T170000
DTSTAMP:20260422T071855
CREATED:20210202T082208Z
LAST-MODIFIED:20210202T082208Z
UID:2316-1621670400-1621789200@www.ozbearsracing.com
SUMMARY:Rnd 2 NSW Clubbies SMSP
DESCRIPTION:
URL:http://www.ozbearsracing.com/event/rnd-2-nsw-clubbies-smsp/
LOCATION:SYDNEY MOTORSPORT PARK\, Ferrers Rd\, Eastern Creek\, NSW\, 2766\, Australia
CATEGORIES:NSW Clubbies
ORGANIZER;CN="ST GEORGE MOTORCYCLE CLUB":MAILTO:secretary@stgeorgemcc.com
END:VEVENT
BEGIN:VEVENT
DTSTART;TZID=Australia/Sydney:20210313T080000
DTEND;TZID=Australia/Sydney:20210314T170000
DTSTAMP:20260422T071855
CREATED:20210202T081732Z
LAST-MODIFIED:20210202T081732Z
UID:2313-1615622400-1615741200@www.ozbearsracing.com
SUMMARY:Rnd 1 NSW Clubbies Wakefield
DESCRIPTION:
URL:http://www.ozbearsracing.com/event/rnd-1-nsw-clubbies-wakefield/
LOCATION:Wakefield Park\, 4770 Braidwood Rd  \, Tirrannaville\, NSW\, 2580\, Australia
CATEGORIES:NSW Clubbies
ORGANIZER;CN="ST GEORGE MOTORCYCLE CLUB":MAILTO:secretary@stgeorgemcc.com
END:VEVENT
BEGIN:VEVENT
DTSTART;VALUE=DATE:20200725
DTEND;VALUE=DATE:20200727
DTSTAMP:20260422T071855
CREATED:20200623T043552Z
LAST-MODIFIED:20200623T044844Z
UID:2086-1595635200-1595807999@www.ozbearsracing.com
SUMMARY:Round 1 Nationals - Sydney (NSW Club Round)
DESCRIPTION:The committee has selected this meeting as Round 1 of the 2020 BEARS MCRC National Challenge. \nThe committee has selected the following meeting to constitute the 2020 BEARS NSW Club Championship.
URL:http://www.ozbearsracing.com/event/round-1-nationals/
LOCATION:SYDNEY MOTORSPORT PARK\, Ferrers Rd\, Eastern Creek\, NSW\, Australia
CATEGORIES:National Race,NSW Clubbies
ORGANIZER;CN="ST GEORGE MOTORCYCLE CLUB":MAILTO:secretary@stgeorgemcc.com
END:VEVENT
BEGIN:VEVENT
DTSTART;VALUE=DATE:20200404
DTEND;VALUE=DATE:20200406
DTSTAMP:20260422T071855
CREATED:20191206T013509Z
LAST-MODIFIED:20191206T013509Z
UID:1971-1585958400-1586131199@www.ozbearsracing.com
SUMMARY:NSW Clubbies Round 2
DESCRIPTION:
URL:http://www.ozbearsracing.com/event/nsw-clubbies-round-2/
LOCATION:Wakefield Park\, 4770 Braidwood Rd  \, Tirrannaville\, NSW\, 2580\, Australia
CATEGORIES:NSW Clubbies
ORGANIZER;CN="ST GEORGE MOTORCYCLE CLUB":MAILTO:secretary@stgeorgemcc.com
END:VEVENT
END:VCALENDAR